Package: affyContam Version: 1.64.0 Command: chmod a+r affyContam -R && F:\biocbuild\bbs-3.20-bioc\R\bin\R.exe CMD build --keep-empty-dirs --no-resave-data affyContam StartedAt: 2025-01-30 17:13:01 -0500 (Thu, 30 Jan 2025) EndedAt: 2025-01-30 17:13:28 -0500 (Thu, 30 Jan 2025) EllapsedTime: 27.0 seconds RetCode: 0 Status: OK PackageFile: affyContam_1.64.0.tar.gz PackageFileSize: 413.7 KiB