Package: affyContam Version: 1.64.0 Command: /Library/Frameworks/R.framework/Resources/bin/R CMD INSTALL affyContam StartedAt: 2025-01-30 15:12:09 -0500 (Thu, 30 Jan 2025) EndedAt: 2025-01-30 15:12:35 -0500 (Thu, 30 Jan 2025) EllapsedTime: 25.5 seconds RetCode: 0 Status: OK