Package: affyContam Version: 1.64.0 Command: /Library/Frameworks/R.framework/Resources/bin/R CMD build --keep-empty-dirs --no-resave-data affyContam StartedAt: 2025-01-30 17:01:59 -0500 (Thu, 30 Jan 2025) EndedAt: 2025-01-30 17:02:34 -0500 (Thu, 30 Jan 2025) EllapsedTime: 34.5 seconds RetCode: 0 Status: OK PackageFile: affyContam_1.64.0.tar.gz PackageFileSize: 503.5 KiB