Package: affyContam Version: 1.64.0 Command: rm -rf affyContam.buildbin-libdir && mkdir affyContam.buildbin-libdir && /Users/biocbuild/BBS/utils/build-universal.sh affyContam_1.64.0.tar.gz /Library/Frameworks/R.framework/Resources/bin/R affyContam.buildbin-libdir StartedAt: 2025-01-31 12:17:58 -0500 (Fri, 31 Jan 2025) EndedAt: 2025-01-31 12:18:07 -0500 (Fri, 31 Jan 2025) EllapsedTime: 8.5 seconds RetCode: 0 Status: OK PackageFile: affyContam_1.64.0.tgz PackageFileSize: 303.5 KiB