Package: affyContam Version: 1.64.0 Command: /Library/Frameworks/R.framework/Resources/bin/R CMD check --install=check:affyContam.install-out.txt --library=/Library/Frameworks/R.framework/Resources/library --no-vignettes --timings affyContam_1.64.0.tar.gz StartedAt: 2024-11-08 19:48:26 -0500 (Fri, 08 Nov 2024) EndedAt: 2024-11-08 19:52:24 -0500 (Fri, 08 Nov 2024) EllapsedTime: 238.3 seconds RetCode: 0 Status: OK CheckDir: affyContam.Rcheck Warnings: 0