Package: affyContam Version: 1.64.0 Command: rm -rf affyContam.buildbin-libdir && mkdir affyContam.buildbin-libdir && /Users/biocbuild/BBS/utils/build-universal.sh affyContam_1.64.0.tar.gz /Library/Frameworks/R.framework/Resources/bin/R affyContam.buildbin-libdir StartedAt: 2025-02-01 13:49:12 -0500 (Sat, 01 Feb 2025) EndedAt: 2025-02-01 13:49:18 -0500 (Sat, 01 Feb 2025) EllapsedTime: 5.7 seconds RetCode: 0 Status: OK PackageFile: affyContam_1.64.0.tgz PackageFileSize: 302.8 KiB