Package: adSplit Version: 1.76.0 Command: /home/biocbuild/R/R/bin/R CMD check --install=check:adSplit.install-out.txt --library=/home/biocbuild/R/R/site-library --no-vignettes --timings adSplit_1.76.0.tar.gz StartedAt: 2025-01-31 03:41:40 -0000 (Fri, 31 Jan 2025) EndedAt: 2025-01-31 03:44:49 -0000 (Fri, 31 Jan 2025) EllapsedTime: 189.5 seconds RetCode: 1 Status: ERROR CheckDir: adSplit.Rcheck Warnings: NA