Package: acde Version: 1.36.0 Command: /home/biocbuild/R/R/bin/R CMD INSTALL acde StartedAt: 2025-01-30 20:06:19 -0000 (Thu, 30 Jan 2025) EndedAt: 2025-01-30 20:06:34 -0000 (Thu, 30 Jan 2025) EllapsedTime: 15.0 seconds RetCode: 0 Status: OK