Package: aCGH Version: 1.84.0 Command: /home/biocbuild/bbs-3.20-bioc/R/bin/R CMD check --install=check:aCGH.install-out.txt --library=/home/biocbuild/bbs-3.20-bioc/R/site-library --timings aCGH_1.84.0.tar.gz StartedAt: 2025-01-30 19:46:39 -0500 (Thu, 30 Jan 2025) EndedAt: 2025-01-30 19:47:57 -0500 (Thu, 30 Jan 2025) EllapsedTime: 78.2 seconds RetCode: 0 Status: OK CheckDir: aCGH.Rcheck Warnings: 0