Package: aCGH Version: 1.84.0 Command: rm -rf aCGH.buildbin-libdir && mkdir aCGH.buildbin-libdir && /Users/biocbuild/BBS/utils/build-universal.sh aCGH_1.84.0.tar.gz /Library/Frameworks/R.framework/Resources/bin/R aCGH.buildbin-libdir StartedAt: 2025-01-31 12:17:51 -0500 (Fri, 31 Jan 2025) EndedAt: 2025-01-31 12:18:21 -0500 (Fri, 31 Jan 2025) EllapsedTime: 30.4 seconds RetCode: 0 Status: OK PackageFile: aCGH_1.84.0.tgz PackageFileSize: 2.494 MiB