Package: a4Core Version: 1.54.0 Command: /home/biocbuild/bbs-3.20-bioc/R/bin/R CMD INSTALL a4Core StartedAt: 2025-01-30 15:45:19 -0500 (Thu, 30 Jan 2025) EndedAt: 2025-01-30 15:45:27 -0500 (Thu, 30 Jan 2025) EllapsedTime: 7.7 seconds RetCode: 0 Status: OK