Package: a4Core Version: 1.54.0 Command: /Library/Frameworks/R.framework/Resources/bin/R CMD check --install=check:a4Core.install-out.txt --library=/Library/Frameworks/R.framework/Resources/library --no-vignettes --timings a4Core_1.54.0.tar.gz StartedAt: 2024-11-19 19:16:31 -0500 (Tue, 19 Nov 2024) EndedAt: 2024-11-19 19:21:40 -0500 (Tue, 19 Nov 2024) EllapsedTime: 308.8 seconds RetCode: 0 Status: OK CheckDir: a4Core.Rcheck Warnings: 0