Package: a4Core Version: 1.54.0 Command: rm -rf a4Core.buildbin-libdir && mkdir a4Core.buildbin-libdir && /Users/biocbuild/BBS/utils/build-universal.sh a4Core_1.54.0.tar.gz /Library/Frameworks/R.framework/Resources/bin/R a4Core.buildbin-libdir StartedAt: 2024-11-20 04:13:17 -0500 (Wed, 20 Nov 2024) EndedAt: 2024-11-20 04:13:31 -0500 (Wed, 20 Nov 2024) EllapsedTime: 13.9 seconds RetCode: 0 Status: OK PackageFile: a4Core_1.54.0.tgz PackageFileSize: 310 KiB