Package: a4Core Version: 1.54.0 Command: /Library/Frameworks/R.framework/Resources/bin/R CMD check --install=check:a4Core.install-out.txt --library=/Library/Frameworks/R.framework/Resources/library --no-vignettes --timings a4Core_1.54.0.tar.gz StartedAt: 2025-01-31 10:27:51 -0500 (Fri, 31 Jan 2025) EndedAt: 2025-01-31 10:28:45 -0500 (Fri, 31 Jan 2025) EllapsedTime: 53.6 seconds RetCode: 0 Status: OK CheckDir: a4Core.Rcheck Warnings: 0