Package: a4Core Version: 1.54.0 Command: /Library/Frameworks/R.framework/Resources/bin/R CMD build --keep-empty-dirs --no-resave-data a4Core StartedAt: 2025-01-30 18:33:49 -0500 (Thu, 30 Jan 2025) EndedAt: 2025-01-30 18:34:02 -0500 (Thu, 30 Jan 2025) EllapsedTime: 12.5 seconds RetCode: 0 Status: OK PackageFile: a4Core_1.54.0.tar.gz PackageFileSize: 290.5 KiB