Package: a4Core Version: 1.54.0 Command: rm -rf a4Core.buildbin-libdir && mkdir a4Core.buildbin-libdir && /Users/biocbuild/BBS/utils/build-universal.sh a4Core_1.54.0.tar.gz /Library/Frameworks/R.framework/Resources/bin/R a4Core.buildbin-libdir StartedAt: 2025-02-01 13:48:10 -0500 (Sat, 01 Feb 2025) EndedAt: 2025-02-01 13:48:19 -0500 (Sat, 01 Feb 2025) EllapsedTime: 9.0 seconds RetCode: 0 Status: OK PackageFile: a4Core_1.54.0.tgz PackageFileSize: 310.1 KiB