Package: a4 Version: 1.54.0 Command: chmod a+r a4 -R && F:\biocbuild\bbs-3.20-bioc\R\bin\R.exe CMD build --keep-empty-dirs --no-resave-data a4 StartedAt: 2025-01-30 17:12:13 -0500 (Thu, 30 Jan 2025) EndedAt: 2025-01-30 17:15:31 -0500 (Thu, 30 Jan 2025) EllapsedTime: 198.2 seconds RetCode: 0 Status: OK PackageFile: a4_1.54.0.tar.gz PackageFileSize: 1023 KiB