Package: a4 Version: 1.54.0 Command: rm -rf a4.buildbin-libdir && mkdir a4.buildbin-libdir && F:\biocbuild\bbs-3.20-bioc\R\bin\R.exe CMD INSTALL --build --library=a4.buildbin-libdir a4_1.54.0.tar.gz StartedAt: 2025-01-31 08:06:07 -0500 (Fri, 31 Jan 2025) EndedAt: 2025-01-31 08:06:49 -0500 (Fri, 31 Jan 2025) EllapsedTime: 42.4 seconds RetCode: 0 Status: OK PackageFile: a4_1.54.0.zip PackageFileSize: 1023 KiB