Package: ZygosityPredictor Version: 1.6.0 Command: /home/biocbuild/R/R/bin/R CMD build --keep-empty-dirs --no-resave-data ZygosityPredictor StartedAt: 2025-01-31 03:32:30 -0000 (Fri, 31 Jan 2025) EndedAt: 2025-01-31 03:33:50 -0000 (Fri, 31 Jan 2025) EllapsedTime: 79.2 seconds RetCode: 0 Status: OK PackageFile: ZygosityPredictor_1.6.0.tar.gz PackageFileSize: 848 KiB