Package: YAPSA Version: 1.32.0 Command: /home/biocbuild/bbs-3.20-bioc/R/bin/R CMD build --keep-empty-dirs --no-resave-data YAPSA StartedAt: 2024-11-19 22:29:21 -0500 (Tue, 19 Nov 2024) EndedAt: 2024-11-19 22:32:33 -0500 (Tue, 19 Nov 2024) EllapsedTime: 192.0 seconds RetCode: 0 Status: OK PackageFile: YAPSA_1.32.0.tar.gz PackageFileSize: 4.178 MiB