Package: YAPSA Version: 1.32.0 Command: /home/biocbuild/R/R/bin/R CMD build --keep-empty-dirs --no-resave-data YAPSA StartedAt: 2025-01-31 03:30:46 -0000 (Fri, 31 Jan 2025) EndedAt: 2025-01-31 03:35:36 -0000 (Fri, 31 Jan 2025) EllapsedTime: 289.5 seconds RetCode: 0 Status: OK PackageFile: YAPSA_1.32.0.tar.gz PackageFileSize: 3.101 MiB