Package: VplotR Version: 1.16.0 Command: /Library/Frameworks/R.framework/Resources/bin/R CMD build --keep-empty-dirs --no-resave-data VplotR StartedAt: 2025-01-30 23:40:50 -0500 (Thu, 30 Jan 2025) EndedAt: 2025-01-30 23:44:41 -0500 (Thu, 30 Jan 2025) EllapsedTime: 230.8 seconds RetCode: 0 Status: OK PackageFile: VplotR_1.16.0.tar.gz PackageFileSize: 5.163 MiB