Package: ViSEAGO Version: 1.20.0 Command: chmod a+r ViSEAGO -R && F:\biocbuild\bbs-3.20-bioc\R\bin\R.exe CMD build --keep-empty-dirs --no-resave-data ViSEAGO StartedAt: 2025-01-30 22:29:43 -0500 (Thu, 30 Jan 2025) EndedAt: 2025-01-30 22:31:02 -0500 (Thu, 30 Jan 2025) EllapsedTime: 78.7 seconds RetCode: 0 Status: OK PackageFile: ViSEAGO_1.20.0.tar.gz PackageFileSize: 8.622 MiB