Package: ViSEAGO Version: 1.20.0 Command: rm -rf ViSEAGO.buildbin-libdir && mkdir ViSEAGO.buildbin-libdir && F:\biocbuild\bbs-3.20-bioc\R\bin\R.exe CMD INSTALL --build --library=ViSEAGO.buildbin-libdir ViSEAGO_1.20.0.tar.gz StartedAt: 2025-01-31 09:51:26 -0500 (Fri, 31 Jan 2025) EndedAt: 2025-01-31 09:52:51 -0500 (Fri, 31 Jan 2025) EllapsedTime: 85.7 seconds RetCode: 0 Status: OK PackageFile: ViSEAGO_1.20.0.zip PackageFileSize: 9.09 MiB