Package: VegaMC Version: 3.44.0 Command: /home/biocbuild/R/R/bin/R CMD INSTALL VegaMC StartedAt: 2025-01-30 20:34:39 -0000 (Thu, 30 Jan 2025) EndedAt: 2025-01-30 20:34:57 -0000 (Thu, 30 Jan 2025) EllapsedTime: 18.4 seconds RetCode: 0 Status: OK