Package: VegaMC Version: 3.44.0 Command: /home/biocbuild/R/R/bin/R CMD build --keep-empty-dirs --no-resave-data VegaMC StartedAt: 2025-01-31 03:24:22 -0000 (Fri, 31 Jan 2025) EndedAt: 2025-01-31 03:24:53 -0000 (Fri, 31 Jan 2025) EllapsedTime: 31.0 seconds RetCode: 0 Status: OK PackageFile: VegaMC_3.44.0.tar.gz PackageFileSize: 1.763 MiB