Package: VegaMC Version: 3.44.0 Command: F:\biocbuild\bbs-3.20-bioc\R\bin\R.exe CMD INSTALL VegaMC StartedAt: 2025-01-30 15:45:53 -0500 (Thu, 30 Jan 2025) EndedAt: 2025-01-30 15:46:18 -0500 (Thu, 30 Jan 2025) EllapsedTime: 24.9 seconds RetCode: 0 Status: OK