Package: VegaMC Version: 3.44.0 Command: /home/biocbuild/bbs-3.20-bioc/R/bin/R CMD INSTALL VegaMC StartedAt: 2025-01-30 15:28:06 -0500 (Thu, 30 Jan 2025) EndedAt: 2025-01-30 15:28:21 -0500 (Thu, 30 Jan 2025) EllapsedTime: 14.6 seconds RetCode: 0 Status: OK