Package: VegaMC Version: 3.44.0 Command: /Library/Frameworks/R.framework/Resources/bin/R CMD build --keep-empty-dirs --no-resave-data VegaMC StartedAt: 2025-01-31 10:07:00 -0500 (Fri, 31 Jan 2025) EndedAt: 2025-01-31 10:07:38 -0500 (Fri, 31 Jan 2025) EllapsedTime: 38.7 seconds RetCode: 0 Status: OK PackageFile: VegaMC_3.44.0.tar.gz PackageFileSize: 1.777 MiB