Package: VegaMC Version: 3.44.0 Command: rm -rf VegaMC.buildbin-libdir && mkdir VegaMC.buildbin-libdir && /Users/biocbuild/BBS/utils/build-universal.sh VegaMC_3.44.0.tar.gz /Library/Frameworks/R.framework/Resources/bin/R VegaMC.buildbin-libdir StartedAt: 2025-02-01 17:19:57 -0500 (Sat, 01 Feb 2025) EndedAt: 2025-02-01 17:20:18 -0500 (Sat, 01 Feb 2025) EllapsedTime: 21.2 seconds RetCode: 0 Status: OK PackageFile: VegaMC_3.44.0.tgz PackageFileSize: 1.881 MiB