Package: VarCon Version: 1.14.0 Command: rm -rf VarCon.buildbin-libdir && mkdir VarCon.buildbin-libdir && F:\biocbuild\bbs-3.20-bioc\R\bin\R.exe CMD INSTALL --build --library=VarCon.buildbin-libdir VarCon_1.14.0.tar.gz StartedAt: 2025-01-31 09:50:39 -0500 (Fri, 31 Jan 2025) EndedAt: 2025-01-31 09:51:37 -0500 (Fri, 31 Jan 2025) EllapsedTime: 57.9 seconds RetCode: 0 Status: OK PackageFile: VarCon_1.14.0.zip PackageFileSize: 1.991 MiB