Package: VarCon Version: 1.14.0 Command: rm -rf VarCon.buildbin-libdir && mkdir VarCon.buildbin-libdir && /Users/biocbuild/BBS/utils/build-universal.sh VarCon_1.14.0.tar.gz /Library/Frameworks/R.framework/Resources/bin/R VarCon.buildbin-libdir StartedAt: 2025-01-31 13:54:22 -0500 (Fri, 31 Jan 2025) EndedAt: 2025-01-31 13:55:50 -0500 (Fri, 31 Jan 2025) EllapsedTime: 87.8 seconds RetCode: 0 Status: OK PackageFile: VarCon_1.14.0.tgz PackageFileSize: 2.015 MiB