Package: VanillaICE Version: 1.68.0 Command: /Library/Frameworks/R.framework/Resources/bin/R CMD INSTALL VanillaICE StartedAt: 2025-01-30 15:39:13 -0500 (Thu, 30 Jan 2025) EndedAt: 2025-01-30 15:40:38 -0500 (Thu, 30 Jan 2025) EllapsedTime: 85.7 seconds RetCode: 0 Status: OK