Package: VanillaICE Version: 1.68.0 Command: /Library/Frameworks/R.framework/Resources/bin/R CMD check --install=check:VanillaICE.install-out.txt --library=/Library/Frameworks/R.framework/Resources/library --no-vignettes --timings VanillaICE_1.68.0.tar.gz StartedAt: 2025-01-31 11:37:46 -0500 (Fri, 31 Jan 2025) EndedAt: 2025-01-31 11:46:59 -0500 (Fri, 31 Jan 2025) EllapsedTime: 552.1 seconds RetCode: 0 Status: OK CheckDir: VanillaICE.Rcheck Warnings: 0