Package: VanillaICE Version: 1.68.0 Command: /Library/Frameworks/R.framework/Resources/bin/R CMD build --keep-empty-dirs --no-resave-data VanillaICE StartedAt: 2025-01-30 23:37:43 -0500 (Thu, 30 Jan 2025) EndedAt: 2025-01-30 23:40:06 -0500 (Thu, 30 Jan 2025) EllapsedTime: 143.1 seconds RetCode: 0 Status: OK PackageFile: VanillaICE_1.68.0.tar.gz PackageFileSize: 2.071 MiB