Package: VanillaICE Version: 1.68.0 Command: /Library/Frameworks/R.framework/Resources/bin/R CMD build --keep-empty-dirs --no-resave-data VanillaICE StartedAt: 2025-01-31 10:00:00 -0500 (Fri, 31 Jan 2025) EndedAt: 2025-01-31 10:01:23 -0500 (Fri, 31 Jan 2025) EllapsedTime: 83.0 seconds RetCode: 0 Status: OK PackageFile: VanillaICE_1.68.0.tar.gz PackageFileSize: 2.072 MiB