Package: VERSO Version: 1.16.0 Command: /home/biocbuild/R/R/bin/R CMD check --install=check:VERSO.install-out.txt --library=/home/biocbuild/R/R/site-library --no-vignettes --timings VERSO_1.16.0.tar.gz StartedAt: 2025-01-31 11:25:51 -0000 (Fri, 31 Jan 2025) EndedAt: 2025-01-31 11:26:19 -0000 (Fri, 31 Jan 2025) EllapsedTime: 28.0 seconds RetCode: 0 Status: OK CheckDir: VERSO.Rcheck Warnings: 0