Package: VERSO Version: 1.16.0 Command: /home/biocbuild/R/R/bin/R CMD build --keep-empty-dirs --no-resave-data VERSO StartedAt: 2025-01-31 03:25:07 -0000 (Fri, 31 Jan 2025) EndedAt: 2025-01-31 03:25:17 -0000 (Fri, 31 Jan 2025) EllapsedTime: 10.0 seconds RetCode: 0 Status: OK PackageFile: VERSO_1.16.0.tar.gz PackageFileSize: 757.3 KiB