Package: VERSO Version: 1.16.0 Command: F:\biocbuild\bbs-3.20-bioc\R\bin\R.exe CMD check --no-multiarch --install=check:VERSO.install-out.txt --library=F:\biocbuild\bbs-3.20-bioc\R\library --no-vignettes --timings VERSO_1.16.0.tar.gz StartedAt: 2025-01-31 07:36:48 -0500 (Fri, 31 Jan 2025) EndedAt: 2025-01-31 07:37:27 -0500 (Fri, 31 Jan 2025) EllapsedTime: 39.5 seconds RetCode: 0 Status: OK CheckDir: VERSO.Rcheck Warnings: 0