Package: VERSO Version: 1.16.0 Command: chmod a+r VERSO -R && F:\biocbuild\bbs-3.20-bioc\R\bin\R.exe CMD build --keep-empty-dirs --no-resave-data VERSO StartedAt: 2025-01-30 22:29:27 -0500 (Thu, 30 Jan 2025) EndedAt: 2025-01-30 22:29:43 -0500 (Thu, 30 Jan 2025) EllapsedTime: 16.9 seconds RetCode: 0 Status: OK PackageFile: VERSO_1.16.0.tar.gz PackageFileSize: 612 KiB