Package: VERSO Version: 1.16.0 Command: /Library/Frameworks/R.framework/Resources/bin/R CMD check --install=check:VERSO.install-out.txt --library=/Library/Frameworks/R.framework/Resources/library --no-vignettes --timings VERSO_1.16.0.tar.gz StartedAt: 2025-01-31 11:41:52 -0500 (Fri, 31 Jan 2025) EndedAt: 2025-01-31 11:42:56 -0500 (Fri, 31 Jan 2025) EllapsedTime: 63.0 seconds RetCode: 0 Status: OK CheckDir: VERSO.Rcheck Warnings: 0