Package: VDJdive Version: 1.8.0 Command: /Library/Frameworks/R.framework/Resources/bin/R CMD check --install=check:VDJdive.install-out.txt --library=/Library/Frameworks/R.framework/Resources/library --no-vignettes --timings VDJdive_1.8.0.tar.gz StartedAt: 2025-02-01 13:06:07 -0500 (Sat, 01 Feb 2025) EndedAt: 2025-02-01 13:10:19 -0500 (Sat, 01 Feb 2025) EllapsedTime: 251.5 seconds RetCode: 0 Status: OK CheckDir: VDJdive.Rcheck Warnings: 0