Package: VAExprs Version: 1.12.0 Command: /Library/Frameworks/R.framework/Resources/bin/R CMD INSTALL VAExprs StartedAt: 2025-01-30 18:23:41 -0500 (Thu, 30 Jan 2025) EndedAt: 2025-01-30 18:24:20 -0500 (Thu, 30 Jan 2025) EllapsedTime: 38.2 seconds RetCode: 0 Status: OK