Package: Uniquorn Version: 2.26.0 Command: /Library/Frameworks/R.framework/Resources/bin/R CMD check --install=check:Uniquorn.install-out.txt --library=/Library/Frameworks/R.framework/Resources/library --no-vignettes --timings Uniquorn_2.26.0.tar.gz StartedAt: 2025-01-31 11:36:59 -0500 (Fri, 31 Jan 2025) EndedAt: 2025-01-31 11:46:40 -0500 (Fri, 31 Jan 2025) EllapsedTime: 581.0 seconds RetCode: 0 Status: OK CheckDir: Uniquorn.Rcheck Warnings: 0