Package: UniProt.ws Version: 2.46.1 Command: /home/biocbuild/R/R/bin/R CMD INSTALL UniProt.ws StartedAt: 2025-01-30 20:31:49 -0000 (Thu, 30 Jan 2025) EndedAt: 2025-01-30 20:32:07 -0000 (Thu, 30 Jan 2025) EllapsedTime: 18.7 seconds RetCode: 0 Status: OK