Package: Ularcirc Version: 1.24.0 Command: /Library/Frameworks/R.framework/Resources/bin/R CMD INSTALL Ularcirc StartedAt: 2025-01-30 16:57:00 -0500 (Thu, 30 Jan 2025) EndedAt: 2025-01-30 16:57:12 -0500 (Thu, 30 Jan 2025) EllapsedTime: 12.6 seconds RetCode: 0 Status: OK