Package: UPDhmm Version: 1.2.0 Command: /home/biocbuild/R/R/bin/R CMD build --keep-empty-dirs --no-resave-data UPDhmm StartedAt: 2025-01-31 03:22:32 -0000 (Fri, 31 Jan 2025) EndedAt: 2025-01-31 03:23:01 -0000 (Fri, 31 Jan 2025) EllapsedTime: 29.0 seconds RetCode: 0 Status: OK PackageFile: UPDhmm_1.2.0.tar.gz PackageFileSize: 266.7 KiB