Package: TreeAndLeaf Version: 1.18.0 Command: /Library/Frameworks/R.framework/Resources/bin/R CMD check --install=check:TreeAndLeaf.install-out.txt --library=/Library/Frameworks/R.framework/Resources/library --no-vignettes --timings TreeAndLeaf_1.18.0.tar.gz StartedAt: 2025-02-01 12:29:20 -0500 (Sat, 01 Feb 2025) EndedAt: 2025-02-01 12:30:01 -0500 (Sat, 01 Feb 2025) EllapsedTime: 40.6 seconds RetCode: 0 Status: OK CheckDir: TreeAndLeaf.Rcheck Warnings: 0