Package: TransView Version: 1.50.1 Command: /home/biocbuild/bbs-3.20-bioc/R/bin/R CMD INSTALL TransView StartedAt: 2025-01-30 15:15:37 -0500 (Thu, 30 Jan 2025) EndedAt: 2025-01-30 15:15:53 -0500 (Thu, 30 Jan 2025) EllapsedTime: 16.4 seconds RetCode: 0 Status: OK