Package: TSAR Version: 1.4.0 Command: F:\biocbuild\bbs-3.20-bioc\R\bin\R.exe CMD INSTALL TSAR StartedAt: 2025-01-30 16:55:50 -0500 (Thu, 30 Jan 2025) EndedAt: 2025-01-30 16:56:17 -0500 (Thu, 30 Jan 2025) EllapsedTime: 26.3 seconds RetCode: 0 Status: OK